BEGIN:VCALENDAR
VERSION:2.0
PRODID:icalendar-ruby
CALSCALE:GREGORIAN
METHOD:PUBLISH
BEGIN:VEVENT
DTSTAMP:20260424T225034Z
UID:6-1951785@edmisonbaptist.com
DTSTART:20261101T150000Z
DTEND:20261101T160000Z
CLASS:PUBLIC
CREATED:20260424T174017
DESCRIPTION:Worship Service
LAST-MODIFIED:20260424T174017
LOCATION:
SUMMARY:Worship Service
URL;VALUE=URI:https://www.edmisonbaptist.com/events/worship-service/2026-11
 -01
END:VEVENT
END:VCALENDAR
