BEGIN:VCALENDAR
VERSION:2.0
PRODID:icalendar-ruby
CALSCALE:GREGORIAN
METHOD:PUBLISH
BEGIN:VEVENT
DTSTAMP:20260424T165549Z
UID:6-1950342@edmisonbaptist.com
DTSTART:20260927T140000Z
DTEND:20260927T150000Z
CLASS:PUBLIC
CREATED:20260424T120640
DESCRIPTION:Worship Service
LAST-MODIFIED:20260424T120640
LOCATION:
SUMMARY:Worship Service
URL;VALUE=URI:https://www.edmisonbaptist.com/events/worship-service/2026-09
 -27
END:VEVENT
END:VCALENDAR
