BEGIN:VCALENDAR
VERSION:2.0
PRODID:icalendar-ruby
CALSCALE:GREGORIAN
METHOD:PUBLISH
BEGIN:VEVENT
DTSTAMP:20260424T152953Z
UID:6-1949622@edmisonbaptist.com
DTSTART:20260920T140000Z
DTEND:20260920T150000Z
CLASS:PUBLIC
CREATED:20260424T091506
DESCRIPTION:Worship Service
LAST-MODIFIED:20260424T091506
LOCATION:
SUMMARY:Worship Service
URL;VALUE=URI:https://www.edmisonbaptist.com/events/worship-service/2026-09
 -20
END:VEVENT
END:VCALENDAR
