BEGIN:VCALENDAR
VERSION:2.0
PRODID:icalendar-ruby
CALSCALE:GREGORIAN
METHOD:PUBLISH
BEGIN:VEVENT
DTSTAMP:20260424T140823Z
UID:6-1949621@edmisonbaptist.com
DTSTART:20260913T140000Z
DTEND:20260913T150000Z
CLASS:PUBLIC
CREATED:20260424T091506
DESCRIPTION:Worship Service
LAST-MODIFIED:20260424T091506
LOCATION:
SUMMARY:Worship Service
URL;VALUE=URI:https://www.edmisonbaptist.com/events/worship-service/2026-09
 -13
END:VEVENT
END:VCALENDAR
