BEGIN:VCALENDAR
VERSION:2.0
PRODID:icalendar-ruby
CALSCALE:GREGORIAN
METHOD:PUBLISH
BEGIN:VEVENT
DTSTAMP:20260424T112825Z
UID:6-1948900@edmisonbaptist.com
DTSTART:20260830T140000Z
DTEND:20260830T150000Z
CLASS:PUBLIC
CREATED:20260424T062016
DESCRIPTION:Worship Service
LAST-MODIFIED:20260424T062016
LOCATION:
SUMMARY:Worship Service
URL;VALUE=URI:https://www.edmisonbaptist.com/events/worship-service/2026-08
 -30
END:VEVENT
END:VCALENDAR
